Workbook

Sheet Vorgaben
A1: Vorgaben werden auf auf alle Tabellenblätter übertragen
A3: Anmeldezeiten | B3: Datum | C3: Startzeiten Licht | D3: Startzeiten Luft
B4: 45563 | C4: 0.54166667 | D4: 0.75
B5: 45565 | C5: 0.5625 | D5: 0.77083333
B6: 45566 | C6: 0.58333333 | D6: 0.79166667
B7: 45567 | C7: 0.75 | D7: 0.8125
B8: 45568 | C8: 0.75 | D8: 0.83333333
C9: 0.64583333 | D9: 0.85416667
C10: nur Dienstag | D10: ↓ Bambini Deinstag
C11: 0.6875 | D11: 0.6875
C12: 0.70833333 | D12: 0.70833333
C13: 0.72916667 | D13: 0.72916667
C14: 0.75
A16: Wievielte | B16: 32
A17: Zeitraum | B17: vom Sa. 28. Sept. bis Do. 03. Okt. 2024
A19: Klassen | B19: Klasseneinteilung | E19: Mannschaft
B20: Klasse | C20: Alter | D20: Anschlag | E20: Schüsse | F20: Startgeld
B21: A Bambini Licht | C21: <12 | D21: aufgelegt | E21: 10 | F21: 4
B22: B Schüler LG | C22: <16 | D22: aufgelegt | E22: 10 | F22: 8
B23: C Jungschützen LG | C23: <21 | D23: Freihand
B24: D Schützen LG | C24: >16 | D24: Freihand | E24: 10 | F24: 8
B25: E Offen LG | C25: >16 | D25: aufgelegt | E25: 10 | F25: 8
B26: F Senioren LG | C26: >60 | D26: aufgelegt | E26: 10 | F26: 8
B27: H Pistole LP | C27: >16 | D27: Freihand | E27: 10 | F27: 8
A31: Schirmherr | B31: Wilhelm Hintzen
A32: Amt | B32: Ortsvorsteher Rödingen, Höllen, Bettenhoven
A34: Emailadresse | B34: info@schuetzen-roedingen.de
A36: Adresszeile 1 | B36: St. Sebastianus Schützenbruderschaft e.V.
A37: Adresszeile 2 | B37: Brudermeister Thorsten Hompesch
A38: Adresszeile 3 | B38: Lisztstraße 5
A39: Adresszeile 4 | B39: 52445 Titz-Rödingen

Sheet Mannschaft
B1: Datum | C1: Startzeiten
B2: =IF(Vorgaben!B4<>"",Vorgaben!B4,"") -> 45563 | C2: =IF(Vorgaben!D4<>"",Vorgaben!D4,"") -> 0.75
B3: =IF(Vorgaben!B5<>"",Vorgaben!B5,"") -> 45565 | C3: =IF(Vorgaben!D5<>"",Vorgaben!D5,"") -> 0.77083333
B4: =IF(Vorgaben!B6<>"",Vorgaben!B6,"") -> 45566 | C4: =IF(Vorgaben!D6<>"",Vorgaben!D6,"") -> 0.79166667
B5: =IF(Vorgaben!B7<>"",Vorgaben!B7,"") -> 45567 | C5: =IF(Vorgaben!D7<>"",Vorgaben!D7,"") -> 0.8125
B6: =IF(Vorgaben!B8<>"",Vorgaben!B8,"") -> 45568 | C6: =IF(Vorgaben!D8<>"",Vorgaben!D8,"") -> 0.83333333
B7: =IF(Vorgaben!B9<>"",Vorgaben!B9,"") | C7: =IF(Vorgaben!D9<>"",Vorgaben!D9,"") -> 0.85416667
B8: =IF(Vorgaben!B10<>"",Vorgaben!B10,"") | C8: =IF(Vorgaben!D10<>"",Vorgaben!D10,"") -> ↓ Bambini Deinstag
B9: =IF(Vorgaben!B11<>"",Vorgaben!B11,"") | C9: =IF(Vorgaben!D11<>"",Vorgaben!D11,"") -> 0.6875
B10: =IF(Vorgaben!B12<>"",Vorgaben!B12,"") | C10: =IF(Vorgaben!D12<>"",Vorgaben!D12,"") -> 0.70833333
B11: =IF(Vorgaben!B13<>"",Vorgaben!B13,"") | C11: =IF(Vorgaben!D13<>"",Vorgaben!D13,"") -> 0.72916667
C12: =IF(Vorgaben!D14<>"",Vorgaben!D14,"")
A14: St. Sebastianus-Schützenbruderschaft Rödingen e.V.
B16: =Vorgaben!A31 -> Schirmherr | C16: =Vorgaben!B31 -> Wilhelm Hintzen | E16: =Vorgaben!B16 -> 32
B17: =Vorgaben!B32 -> Ortsvorsteher Rödingen, Höllen, Bettenhoven
E18: St. Cornelius - Schießen
A19: Meldebogen bitte senden an: | E19: =Vorgaben!B17 -> vom Sa. 28. Sept. bis Do. 03. Okt. 2024 | H19: Rödingen
A21: =Vorgaben!B34 -> info@schuetzen-roedingen.de | D21: Klasseneinteilung: Mannschaft
D22: Klasse | E22: Alter | F22: Anschlag | G22: Schüsse | H22: Startgeld
A23: oder | D23: =Vorgaben!B21 -> A Bambini Licht | E23: =Vorgaben!C21 -> <12 | F23: =Vorgaben!D21 -> aufgelegt | G23: =Vorgaben!E21 -> 10 | H23: =Vorgaben!F21 -> 4
D24: =Vorgaben!B22 -> B Schüler LG | E24: =Vorgaben!C22 -> <16 | F24: =Vorgaben!D22 -> aufgelegt | G24: =Vorgaben!E22 -> 10 | H24: =Vorgaben!F22 -> 8
A25: =Vorgaben!B36 -> St. Sebastianus Schützenbruderschaft e.V.
A26: =Vorgaben!B37 -> Brudermeister Thorsten Hompesch | D26: =Vorgaben!B24 -> D Schützen LG | E26: =Vorgaben!C24 -> >16 | F26: =Vorgaben!D24 -> Freihand | G26: =Vorgaben!E24 -> 10 | H26: =Vorgaben!F24 -> 8
A27: =Vorgaben!B38 -> Lisztstraße 5 | D27: =Vorgaben!B25 -> E Offen LG | E27: =Vorgaben!C25 -> >16 | F27: =Vorgaben!D25 -> aufgelegt | G27: =Vorgaben!E25 -> 10 | H27: =Vorgaben!F25 -> 8
A28: =Vorgaben!B39 -> 52445 Titz-Rödingen | D28: =Vorgaben!B26 -> F Senioren LG | E28: =Vorgaben!C26 -> >60 | F28: =Vorgaben!D26 -> aufgelegt | G28: =Vorgaben!E26 -> 10 | H28: =Vorgaben!F26 -> 8
D29: =Vorgaben!B27 -> H Pistole LP | E29: =Vorgaben!C27 -> >16 | F29: =Vorgaben!D27 -> Freihand | G29: =Vorgaben!E27 -> 10 | H29: =Vorgaben!F27 -> 8
A31: Verein | F31: gemeldet | H31: Gesamt-
F32: von | H32: Startgeld
H33: =IF(SUM(H62,H57,H52,H47,H42,H37), SUM(H62,H57,H52,H47,H42,H37),"") -> 8
H35: Organsiator-Notizen
A36: Nr. | B36: Klasse (Buchstrab) | C36: Vorname, Name | F36: Datum | G36: Uhrzeit | H36: Startgeld | I36: StartNr
A37: 1 | B37: E Offen LG | H37: =IF(B37<>"",VLOOKUP(B37,$D$23:$H$30,5),"") -> 8
A38: 2
A39: 3
A41: Nr. | B41: Klasse | C41: Name, Vorname | F41: Datum | G41: Uhrzeit | H41: Startgeld | I41: StartNr
A42: 1 | H42: =IF(B42<>"",VLOOKUP(B42,$D$23:$H$30,5),"")
A43: 2
A44: 3
A46: Nr. | B46: Klasse | C46: Name, Vorname | F46: Datum | G46: Uhrzeit | H46: Startgeld | I46: StartNr
A47: 1 | H47: =IF(B47<>"",VLOOKUP(B47,$D$23:$H$30,5),"")
...
